BEGIN:VCALENDAR
VERSION:2.0
PRODID:-//বাংলাদেশ জাতীয়তাবাদী ছাত্রদল- ঢাকা বিশ্ববিদ্যালয় - ECPv6.15.13//NONSGML v1.0//EN
CALSCALE:GREGORIAN
METHOD:PUBLISH
X-ORIGINAL-URL:https://jcddu.org/
X-WR-CALDESC:Events for বাংলাদেশ জাতীয়তাবাদী ছাত্রদল- ঢাকা বিশ্ববিদ্যালয়
REFRESH-INTERVAL;VALUE=DURATION:PT1H
X-Robots-Tag:noindex
X-PUBLISHED-TTL:PT1H
BEGIN:VTIMEZONE
TZID:Asia/Dhaka
BEGIN:STANDARD
TZOFFSETFROM:+0600
TZOFFSETTO:+0600
TZNAME:+06
DTSTART:20230101T000000
END:STANDARD
END:VTIMEZONE
BEGIN:VEVENT
DTSTART;VALUE=DATE:20240503
DTEND;VALUE=DATE:20240504
DTSTAMP:20260421T025235
CREATED:20250523T092224Z
LAST-MODIFIED:20250523T092248Z
UID:2183-1714694400-1714780799@jcddu.org
SUMMARY:আগরতলা হাইকমিশনে হামলার প্রতিবাদে নয়াপল্টনে ছাত্রদলের অংশগ্রহণ
DESCRIPTION:ভারতের আগরতলায় অবস্থিত বাংলাদেশের সহকারি হাইকমিশনে হামলার প্রতিবাদে ঢাকার নয়াপল্টনে বাংলাদেশ জাতীয়তাবাদী দল-বিএনপি ও অঙ্গ এবং সহযোগি সংগঠনের বিক্ষোভ মিছিলে অংশ নেন বাংলাদেশ জাতীয়তাবাদী ছাত্রদল\, ঢাকা বিশ্ববিদ্যালয়ের নেতাকর্মীরা।\n৩ ডিসেম্বর ২০২৪ ইং।
URL:https://jcddu.org/event/%e0%a6%86%e0%a6%97%e0%a6%b0%e0%a6%a4%e0%a6%b2%e0%a6%be-%e0%a6%b9%e0%a6%be%e0%a6%87%e0%a6%95%e0%a6%ae%e0%a6%bf%e0%a6%b6%e0%a6%a8%e0%a7%87-%e0%a6%b9%e0%a6%be%e0%a6%ae%e0%a6%b2%e0%a6%be%e0%a6%b0/
LOCATION:নয়াপল্টন\, নয়াপল্টনে\, Dhaka\, 1000\, Bangladesh
CATEGORIES:আগরতলা হাইকমিশনে হামলার প্রতিবাদে নয়াপল্টনে ছাত্রদলের অংশগ্রহণ
ATTACH;FMTTYPE=image/jpeg:https://jcddu.org/wp-content/uploads/2025/05/477715947_122157111674328697_4396155955268528352_n-1.jpg
END:VEVENT
END:VCALENDAR