BEGIN:VCALENDAR
VERSION:2.0
PRODID:-//বাংলাদেশ জাতীয়তাবাদী ছাত্রদল- ঢাকা বিশ্ববিদ্যালয় - ECPv6.15.13//NONSGML v1.0//EN
CALSCALE:GREGORIAN
METHOD:PUBLISH
X-WR-CALNAME:বাংলাদেশ জাতীয়তাবাদী ছাত্রদল- ঢাকা বিশ্ববিদ্যালয়
X-ORIGINAL-URL:https://jcddu.org/
X-WR-CALDESC:Events for বাংলাদেশ জাতীয়তাবাদী ছাত্রদল- ঢাকা বিশ্ববিদ্যালয়
REFRESH-INTERVAL;VALUE=DURATION:PT1H
X-Robots-Tag:noindex
X-PUBLISHED-TTL:PT1H
BEGIN:VTIMEZONE
TZID:Asia/Dhaka
BEGIN:STANDARD
TZOFFSETFROM:+0600
TZOFFSETTO:+0600
TZNAME:+06
DTSTART:20230101T000000
END:STANDARD
END:VTIMEZONE
BEGIN:VEVENT
DTSTART;VALUE=DATE:20241214
DTEND;VALUE=DATE:20241215
DTSTAMP:20260421T013308
CREATED:20250523T062927Z
LAST-MODIFIED:20250523T062927Z
UID:2066-1734134400-1734220799@jcddu.org
SUMMARY:একাত্তরের মেধা নিধন ও পুনর্গঠনের আলোচনা – ১৪ ডিসেম্বর ২০২৪
DESCRIPTION:শহীদ বুদ্ধিজীবী দিবস ২০২৪ উপলক্ষে ১৪ ডিসেম্বর\, বাংলাদেশ জাতীয়তাবাদী ছাত্রদল\, ঢাকা বিশ্ববিদ্যালয় আয়োজিত ❝একাত্তরের মেধা নিধন : ইতিহাসের ক্ষত ও বুদ্ধিবৃত্তিক পুনর্গঠন❞ শীর্ষক আলোচনা অনুষ্ঠানে অংশ নিয়ে মূল্যবান বক্তব্য প্রদান করেন একুশে পদকপ্রাপ্ত অধ্যাপক ড. সুকোমল বড়ুয়া\, ঢাকা বিশ্ববিদ্যালয়ের কলা অনুষদের ডিন ড. মোহাম্মদ ছিদ্দিকুর রহমান খান\, ইতিহাস বিভাগের সহযোগী অধ্যাপক মো. আবুল কাউসার\, এবং ছাত্রদলের কেন্দ্রীয় সাংগঠনিক সম্পাদক মোঃ আমানউল্লাহ আমান।এছাড়া বক্তব্য রাখেন ঢাকা বিশ্ববিদ্যালয় ছাত্রদলের সহ-সভাপতি আনিসুর রহমান খন্দকার অনিক\, সিনিয়র যুগ্ম-সাধারণ সম্পাদক মোঃ নাছির উদ্দিন শাওন\, যুগ্ম-সাধারণ সম্পাদক মোঃ শামিম আকতার শুভ এবং সাংগঠনিক সম্পাদক মোঃ নূর আলম ভূঁইয়া ইমন।সভায় সভাপতিত্ব করেন ছাত্রদল\, ঢাকা বিশ্ববিদ্যালয়ের সভাপতি গণেশ চন্দ্র রায় সাহস এবং সঞ্চালনায় ছিলেন সাধারণ সম্পাদক নাহিদুজ্জামান শিপন।আলোচনা সভা শেষে অতিথিবৃন্দ আয়োজিত চিত্র প্রদর্শনীটি পরিদর্শন করেন।অনুষ্ঠানটির সার্বিক তত্ত্বাবধানে ছিলেন মুক্তিযুদ্ধ ও গবেষণা বিষয়ক সম্পাদক সৈয়দ ইমাম হাসান অনিক।
URL:https://jcddu.org/event/%e0%a6%8f%e0%a6%95%e0%a6%be%e0%a6%a4%e0%a7%8d%e0%a6%a4%e0%a6%b0%e0%a7%87%e0%a6%b0-%e0%a6%ae%e0%a7%87%e0%a6%a7%e0%a6%be-%e0%a6%a8%e0%a6%bf%e0%a6%a7%e0%a6%a8-%e0%a6%93-%e0%a6%aa%e0%a7%81%e0%a6%a8/
LOCATION:ঢাকা বিশ্ববিদ্যালয়\, ঢাকা বিশবিদযালয়\, Dhaka\, 1000\, Bangladesh
CATEGORIES:একাত্তরের মেধা নিধন ও পুনর্গঠনের আলোচনা
ATTACH;FMTTYPE=image/jpeg:https://jcddu.org/wp-content/uploads/2025/05/477020127_122157137534328697_9153259072305380437_n.jpg
END:VEVENT
END:VCALENDAR