BEGIN:VCALENDAR
VERSION:2.0
PRODID:-//বাংলাদেশ জাতীয়তাবাদী ছাত্রদল- ঢাকা বিশ্ববিদ্যালয় - ECPv6.15.13//NONSGML v1.0//EN
CALSCALE:GREGORIAN
METHOD:PUBLISH
X-WR-CALNAME:বাংলাদেশ জাতীয়তাবাদী ছাত্রদল- ঢাকা বিশ্ববিদ্যালয়
X-ORIGINAL-URL:https://jcddu.org/
X-WR-CALDESC:Events for বাংলাদেশ জাতীয়তাবাদী ছাত্রদল- ঢাকা বিশ্ববিদ্যালয়
REFRESH-INTERVAL;VALUE=DURATION:PT1H
X-Robots-Tag:noindex
X-PUBLISHED-TTL:PT1H
BEGIN:VTIMEZONE
TZID:Asia/Dhaka
BEGIN:STANDARD
TZOFFSETFROM:+0600
TZOFFSETTO:+0600
TZNAME:+06
DTSTART:20240101T000000
END:STANDARD
END:VTIMEZONE
BEGIN:VEVENT
DTSTART;VALUE=DATE:20250221
DTEND;VALUE=DATE:20250222
DTSTAMP:20260420T003458
CREATED:20250515T065922Z
LAST-MODIFIED:20250515T065922Z
UID:1710-1740096000-1740182399@jcddu.org
SUMMARY:একুশে ফেব্রুয়ারির প্রথম প্রহরে ছাত্রদলের কেন্দ্রীয় ও ঢাবি শাখার শ্রদ্ধাঞ্জলি অর্পণ
DESCRIPTION:একুশে ফেব্রুয়ারির প্রথম প্রহরে বাংলাদেশ জাতীয়তাবাদী ছাত্রদল\, কেন্দ্রীয় সংসদ ও বাংলাদেশ জাতীয়তাবাদী ছাত্রদল\, ঢাকা বিশ্ববিদ্যালয়ের শ্রদ্ধাঞ্জলি অর্পন
URL:https://jcddu.org/event/%e0%a6%8f%e0%a6%95%e0%a7%81%e0%a6%b6%e0%a7%87-%e0%a6%ab%e0%a7%87%e0%a6%ac%e0%a7%8d%e0%a6%b0%e0%a7%81%e0%a6%af%e0%a6%bc%e0%a6%be%e0%a6%b0%e0%a6%bf%e0%a6%b0-%e0%a6%aa%e0%a7%8d%e0%a6%b0%e0%a6%a5%e0%a6%ae/
LOCATION:কেন্দ্রীয় শহীদ মিনার\, কেন্দ্রীয় শহীদ মিনার\, Dhaka\, 1000\, Bangladesh
CATEGORIES:একুশে ফেব্রুয়ারি
ATTACH;FMTTYPE=image/jpeg:https://jcddu.org/wp-content/uploads/2025/05/480931744_122158551620328697_8791415813021793476_n.jpg
END:VEVENT
END:VCALENDAR