BEGIN:VCALENDAR
VERSION:2.0
PRODID:-//বাংলাদেশ জাতীয়তাবাদী ছাত্রদল- ঢাকা বিশ্ববিদ্যালয় - ECPv6.15.13//NONSGML v1.0//EN
CALSCALE:GREGORIAN
METHOD:PUBLISH
X-WR-CALNAME:বাংলাদেশ জাতীয়তাবাদী ছাত্রদল- ঢাকা বিশ্ববিদ্যালয়
X-ORIGINAL-URL:https://jcddu.org/
X-WR-CALDESC:Events for বাংলাদেশ জাতীয়তাবাদী ছাত্রদল- ঢাকা বিশ্ববিদ্যালয়
REFRESH-INTERVAL;VALUE=DURATION:PT1H
X-Robots-Tag:noindex
X-PUBLISHED-TTL:PT1H
BEGIN:VTIMEZONE
TZID:Asia/Dhaka
BEGIN:STANDARD
TZOFFSETFROM:+0600
TZOFFSETTO:+0600
TZNAME:+06
DTSTART:20240101T000000
END:STANDARD
END:VTIMEZONE
BEGIN:VEVENT
DTSTART;VALUE=DATE:20250224
DTEND;VALUE=DATE:20250225
DTSTAMP:20260419T224004
CREATED:20250515T063554Z
LAST-MODIFIED:20250515T063554Z
UID:1686-1740355200-1740441599@jcddu.org
SUMMARY:ডাকসু সংস্কার ও নির্বাচন নিয়ে বিজয় '৭১ ও জগন্নাথ হলের শিক্ষার্থীদের সাথে ছাত্রদলের মতবিনিময়
DESCRIPTION:চলমান ডাকসু গঠনতন্ত্র সংস্কার\, নির্বাচন ও আগামীর ঢাকা বিশ্ববিদ্যালয় নিয়ে বাংলাদেশ জাতীয়তাবাদী ছাত্রদল\, ঢাকা বিশ্ববিদ্যালয়ের হলভিত্তিক ধারাবাহিক মতবিনিময় সভার অংশ হিসেবে অনিবার্য কারণে পরিবর্তিত সময়সূচি অনুযায়ী গত ২৪ ফেব্রুয়ারি ডাকসু ক্যাফেটেরিয়ায় বিজয় একাত্তর হল ও জগন্নাথ হলের শিক্ষার্থীদের সাথে মতবিনিময় অনুষ্ঠিত হয়।
URL:https://jcddu.org/event/%e0%a6%a1%e0%a6%be%e0%a6%95%e0%a6%b8%e0%a7%81-%e0%a6%b8%e0%a6%82%e0%a6%b8%e0%a7%8d%e0%a6%95%e0%a6%be%e0%a6%b0-%e0%a6%93-%e0%a6%a8%e0%a6%bf%e0%a6%b0%e0%a7%8d%e0%a6%ac%e0%a6%be%e0%a6%9a%e0%a6%a8/
LOCATION:ঢাকা বিশ্ববিদ্যালয়\, ঢাকা বিশবিদযালয়\, Dhaka\, 1000\, Bangladesh
CATEGORIES:ডাকসু সংস্কার ও নির্বাচন নিয়ে বিজয় '৭১ ও জগন্নাথ হলের শিক্ষার্থীদের সাথে ছাত্রদলের মতবিনিময়
ATTACH;FMTTYPE=image/jpeg:https://jcddu.org/wp-content/uploads/2025/05/480686598_122159071076328697_6523865034414608337_n.jpg
END:VEVENT
END:VCALENDAR