BEGIN:VCALENDAR
VERSION:2.0
PRODID:-//বাংলাদেশ জাতীয়তাবাদী ছাত্রদল- ঢাকা বিশ্ববিদ্যালয় - ECPv6.15.13//NONSGML v1.0//EN
CALSCALE:GREGORIAN
METHOD:PUBLISH
X-WR-CALNAME:বাংলাদেশ জাতীয়তাবাদী ছাত্রদল- ঢাকা বিশ্ববিদ্যালয়
X-ORIGINAL-URL:https://jcddu.org/
X-WR-CALDESC:Events for বাংলাদেশ জাতীয়তাবাদী ছাত্রদল- ঢাকা বিশ্ববিদ্যালয়
REFRESH-INTERVAL;VALUE=DURATION:PT1H
X-Robots-Tag:noindex
X-PUBLISHED-TTL:PT1H
BEGIN:VTIMEZONE
TZID:Asia/Dhaka
BEGIN:STANDARD
TZOFFSETFROM:+0600
TZOFFSETTO:+0600
TZNAME:+06
DTSTART:20240101T000000
END:STANDARD
END:VTIMEZONE
BEGIN:VEVENT
DTSTART;TZID=Asia/Dhaka:20250427T080000
DTEND;TZID=Asia/Dhaka:20250427T170000
DTSTAMP:20260420T184013
CREATED:20250512T045407Z
LAST-MODIFIED:20250512T045407Z
UID:1544-1745740800-1745773200@jcddu.org
SUMMARY:ঢাবি শিক্ষার্থীদের ৫ দফা দাবিতে উপাচার্যের কাছে ছাত্রদলের স্মারকলিপি প্রদান
DESCRIPTION:ঢাকা বিশ্ববিদ্যালয়ের সর্বস্তরের শিক্ষার্থীদের সার্বিক সুবিধা ও কল্যাণার্থে ৫টি বিষয়ে পদক্ষেপ নিতে ঢাকা বিশ্ববিদ্যালয়ের মাননীয় উপাচার্য বরাবর স্মারকলিপি প্রদান করেছে বাংলাদেশ জাতীয়তাবাদী ছাত্রদল\, ঢাকা বিশ্ববিদ্যালয়: \n১। আবাসিক হলের ক্যান্টিনসমূহে পরিবেশিত খাদ্যের মানোন্নয়ন; \n২। হল পাড়া ও কলা ভবনের পিছনের রাস্তার উপযুক্ত মেরামত\, \n৩। ক্যাম্পাসের প্রতিটি ডিপার্টমেন্টে ফিল্টার পানি নিশ্চিত করার পাশাপাশি বিশ্ববিদ্যালয়ের গুরুত্বপূর্ণ পয়েন্ট গুলোতে পানির ফিল্টার স্থাপন\, \n৪। বিশ্ববিদ্যালয়ের আইডি কার্ড ধারীদের জন্য বিশ্ববিদ্যালয় প্রাঙ্গণে ফ্রি ওয়াইফাই চালুকরণ\, এবং \n৫। প্রতিটি বিভাগের সেমিনার লাইব্রেরিতে ফটোকপি\, প্রিন্টিং ও স্ক্যানিং এর সুবিধা নিশ্চিতকরণ। \nআজ দুপুর ২:০০টায় উপাচার্য অধ্যাপক ড. নিয়াজ আহমেদ খানের নিকট স্মারকলিপি প্রদানকালে উপস্থিত ছিলেন বাংলাদেশ জাতীয়তাবাদী ছাত্রদল\, ঢাকা বিশ্ববিদ্যালয়ের সভাপতি গণেশ চন্দ্র রায় সাহস\, সিনিয়র সহ-সভাপতি মোঃ মাসুম বিল্লাহ\, সহ-সভাপতি মোঃ আনিসুর রহমান খন্দকার অনিক\, সাধারণ সম্পাদক নাহিদুজ্জামান শিপন\, সিনিয়র যুগ্ম-সাধারণ সম্পাদক মোঃ নাসির উদ্দিন শাওন\, যুগ্ম-সাধারণ সম্পাদক মোঃ শামিম আকতার শুভ এবং সাংগঠনিক সম্পাদক মোঃ নূর আলম ভূঁইয়া ইমন। \nনেতৃবৃন্দের সাথে আলোচনার পর উত্থাপনকৃত ৫টি দাবির মধ্যে প্রথম দাবি নিয়ে মাননীয় উপাচার্য মহোদয় সকলের সাথে আলোচনা করে সিদ্ধান্ত নেয়ার এবং দ্বিতীয় দাবিটির বাস্তবায়ন আগামী এক সপ্তাহের মধ্যে দৃশ্যমান হওয়ার আশ্বাস দিয়েছেন। \nতিনি তৃতীয় দাবিটিও খুব দ্রুত ঢাকা বিশ্ববিদ্যালয় অ্যালামনাই এসোসিয়েশনের মাধ্যমে বাস্তবায়ন করা হবে এবং পঞ্চম দাবিটি পরবর্তী ডীনস কমিটিতে আলোচনার মাধ্যমে বাস্তবায়ন করা হবে বলে আশ্বাস দিয়েছেন।
URL:https://jcddu.org/event/%e0%a6%a2%e0%a6%be%e0%a6%ac%e0%a6%bf-%e0%a6%b6%e0%a6%bf%e0%a6%95%e0%a7%8d%e0%a6%b7%e0%a6%be%e0%a6%b0%e0%a7%8d%e0%a6%a5%e0%a7%80%e0%a6%a6%e0%a7%87%e0%a6%b0-%e0%a7%ab-%e0%a6%a6%e0%a6%ab%e0%a6%be/
LOCATION:Vice Chancellor Office\, Registrar's Building\, Katabon Rd\, Dhaka 1205\, Bangladesh\, Dhaka\, 1000\, Bangladesh
CATEGORIES:ঢাবি শিক্ষার্থীদের ৫ দফা দাবি
ATTACH;FMTTYPE=image/jpeg:https://jcddu.org/wp-content/uploads/2025/05/494224154_122169828494328697_365354790327147069_n.jpg
END:VEVENT
END:VCALENDAR