BEGIN:VCALENDAR
VERSION:2.0
PRODID:-//বাংলাদেশ জাতীয়তাবাদী ছাত্রদল- ঢাকা বিশ্ববিদ্যালয় - ECPv6.15.13//NONSGML v1.0//EN
CALSCALE:GREGORIAN
METHOD:PUBLISH
X-WR-CALNAME:বাংলাদেশ জাতীয়তাবাদী ছাত্রদল- ঢাকা বিশ্ববিদ্যালয়
X-ORIGINAL-URL:https://jcddu.org/
X-WR-CALDESC:Events for বাংলাদেশ জাতীয়তাবাদী ছাত্রদল- ঢাকা বিশ্ববিদ্যালয়
REFRESH-INTERVAL;VALUE=DURATION:PT1H
X-Robots-Tag:noindex
X-PUBLISHED-TTL:PT1H
BEGIN:VTIMEZONE
TZID:Asia/Dhaka
BEGIN:STANDARD
TZOFFSETFROM:+0600
TZOFFSETTO:+0600
TZNAME:+06
DTSTART:20240101T000000
END:STANDARD
END:VTIMEZONE
BEGIN:VEVENT
DTSTART;VALUE=DATE:20250125
DTEND;VALUE=DATE:20250126
DTSTAMP:20260420T054035
CREATED:20250515T073704Z
LAST-MODIFIED:20250515T073704Z
UID:1742-1737763200-1737849599@jcddu.org
SUMMARY:ভর্তিচ্ছুদের সহায়তায় লেদার ও সমাজকল্যাণ ইনস্টিটিউটে ছাত্রদলের ওয়ান স্টপ সেবা কেন্দ্র
DESCRIPTION:ভর্তিচ্ছু শিক্ষার্থী ও অভিভাবকদের সাহায্যার্থে ওয়ান স্টপ সহায়তা কেন্দ্রগুলোতে ব্যস্ত ঢাকা বিশ্ববিদ্যালয় ছাত্রদলের নেতাকর্মীরা…\n\n\nভেন্যু: লেদার ইঞ্জিনিয়ারিং ইনস্টিটিউট এবং সমাজকল্যাণ ও গবেষণা ইনস্টিটিউট\, ঢাকা বিশ্ববিদ্যালয়
URL:https://jcddu.org/event/%e0%a6%ad%e0%a6%b0%e0%a7%8d%e0%a6%a4%e0%a6%bf%e0%a6%9a%e0%a7%8d%e0%a6%9b%e0%a7%81%e0%a6%a6%e0%a7%87%e0%a6%b0-%e0%a6%b8%e0%a6%b9%e0%a6%be%e0%a6%af%e0%a6%bc%e0%a6%a4%e0%a6%be%e0%a6%af%e0%a6%bc-%e0%a6%b2/
LOCATION:ঢাকা বিশ্ববিদ্যালয়\, ঢাকা বিশবিদযালয়\, Dhaka\, 1000\, Bangladesh
CATEGORIES:ভর্তিচ্ছুদের সহায়তায়
ATTACH;FMTTYPE=image/jpeg:https://jcddu.org/wp-content/uploads/2025/05/481004611_122158972646328697_707983795505718655_n.jpg
END:VEVENT
END:VCALENDAR