BEGIN:VCALENDAR
VERSION:2.0
PRODID:-//বাংলাদেশ জাতীয়তাবাদী ছাত্রদল- ঢাকা বিশ্ববিদ্যালয় - ECPv6.15.13//NONSGML v1.0//EN
CALSCALE:GREGORIAN
METHOD:PUBLISH
X-ORIGINAL-URL:https://jcddu.org/
X-WR-CALDESC:Events for বাংলাদেশ জাতীয়তাবাদী ছাত্রদল- ঢাকা বিশ্ববিদ্যালয়
REFRESH-INTERVAL;VALUE=DURATION:PT1H
X-Robots-Tag:noindex
X-PUBLISHED-TTL:PT1H
BEGIN:VTIMEZONE
TZID:Asia/Dhaka
BEGIN:STANDARD
TZOFFSETFROM:+0600
TZOFFSETTO:+0600
TZNAME:+06
DTSTART:20240101T000000
END:STANDARD
END:VTIMEZONE
BEGIN:VEVENT
DTSTART;VALUE=DATE:20250310
DTEND;VALUE=DATE:20250311
DTSTAMP:20260419T175940
CREATED:20250514T164019Z
LAST-MODIFIED:20250514T164019Z
UID:1644-1741564800-1741651199@jcddu.org
SUMMARY:নারী নিপীড়ন ও বিচারহীনতার প্রতিবাদে ছাত্রদলের মানববন্ধন ১০ মার্চ
DESCRIPTION:দেশব্যাপী নারীদের বিরুদ্ধে সহিংসতা\, নিপীড়ন\, ধর্ষণ\, অনলাইনে হেনস্তা এবং আইনশৃঙ্খলা পরিস্থিতির সার্বিক অবনতি ও বিচারহীনতার প্রতিবাদে গত ১০ মার্চ\, ২০২৫ ইং রোজ সোমবারে মানববন্ধন কর্মসূচি পালন করবে বাংলাদেশ জাতীয়তাবাদী ছাত্রদল।
URL:https://jcddu.org/event/%e0%a6%a8%e0%a6%be%e0%a6%b0%e0%a7%80-%e0%a6%a8%e0%a6%bf%e0%a6%aa%e0%a7%80%e0%a6%a1%e0%a6%bc%e0%a6%a8-%e0%a6%93-%e0%a6%ac%e0%a6%bf%e0%a6%9a%e0%a6%be%e0%a6%b0%e0%a6%b9%e0%a7%80%e0%a6%a8%e0%a6%a4/
LOCATION:ছাত্র-শিক্ষক কেন্দ্র\, ঢাকা বিশ্ববিদ্যালয়\, TSC\, Dhaka University\, Dhaka\, Dhaka\, 1000\, Bangladesh
CATEGORIES:মানববন্ধন কর্মসূচি
ATTACH;FMTTYPE=image/jpeg:https://jcddu.org/wp-content/uploads/2025/05/482002449_122161495472328697_7209824039430953813_n.jpg
END:VEVENT
END:VCALENDAR