BEGIN:VCALENDAR
VERSION:2.0
PRODID:-//বাংলাদেশ জাতীয়তাবাদী ছাত্রদল- ঢাকা বিশ্ববিদ্যালয় - ECPv6.15.13//NONSGML v1.0//EN
CALSCALE:GREGORIAN
METHOD:PUBLISH
X-ORIGINAL-URL:https://jcddu.org/
X-WR-CALDESC:Events for বাংলাদেশ জাতীয়তাবাদী ছাত্রদল- ঢাকা বিশ্ববিদ্যালয়
REFRESH-INTERVAL;VALUE=DURATION:PT1H
X-Robots-Tag:noindex
X-PUBLISHED-TTL:PT1H
BEGIN:VTIMEZONE
TZID:Asia/Dhaka
BEGIN:STANDARD
TZOFFSETFROM:+0600
TZOFFSETTO:+0600
TZNAME:+06
DTSTART:20230101T000000
END:STANDARD
END:VTIMEZONE
BEGIN:VEVENT
DTSTART;VALUE=DATE:20241223
DTEND;VALUE=DATE:20241224
DTSTAMP:20260420T202507
CREATED:20250523T060947Z
LAST-MODIFIED:20250523T060947Z
UID:2049-1734912000-1734998399@jcddu.org
SUMMARY:শহীদ আরাফাতের জানাযা অনুষ্ঠিত – ২৩ ডিসেম্বর ২০২৪
DESCRIPTION:ছাত্র-জনতার গণঅভ্যুত্থানে আহত মো. আরাফাত (১২) দীর্ঘদিন ঢাকা সিএমএইচ হাসপাতালে চিকিৎসারত অবস্থায় গতকাল (২২ ডিসেম্বর ২০২৪) কার্ডিয়াক এরেস্ট (হৃৎযন্ত্রের ক্রিয়া বন্ধ) হয়ে ইন্তেকাল করেছেন। আজ (সোমবার\, ২৩ ডিসেম্বর ২০২৪) বিকেলে জাতীয় শহীদ মিনারে জুলাই গণ-অভ্যুত্থানের শহীদ মো. আরাফাতের নামাজে জানাযা অনুষ্ঠিত হয়। অনুষ্ঠানে বাংলাদেশ জাতীয়তাবাদী ছাত্রদল\, ঢাকা বিশ্ববিদ্যালয়ের সাধারণ সম্পাদক নাহিদুজ্জামান শিপনসহ অন্যান্য নেতা-কর্মীরা উপস্থিত ছিলেন।
URL:https://jcddu.org/event/%e0%a6%b6%e0%a6%b9%e0%a7%80%e0%a6%a6-%e0%a6%86%e0%a6%b0%e0%a6%be%e0%a6%ab%e0%a6%be%e0%a6%a4%e0%a7%87%e0%a6%b0-%e0%a6%9c%e0%a6%be%e0%a6%a8%e0%a6%be%e0%a6%af%e0%a6%be-%e0%a6%85%e0%a6%a8%e0%a7%81/
LOCATION:জাতীয় শহীদ মিনার\, জাতীয় শহীদ মিনারে\, Dhaka\, 1000\, Bangladesh
CATEGORIES:শহীদ আরাফাতের জানাযা
ATTACH;FMTTYPE=image/jpeg:https://jcddu.org/wp-content/uploads/2025/05/476833258_122157240752328697_1342788135984129131_n.jpg
END:VEVENT
END:VCALENDAR