BEGIN:VCALENDAR
VERSION:2.0
PRODID:-//বাংলাদেশ জাতীয়তাবাদী ছাত্রদল- ঢাকা বিশ্ববিদ্যালয় - ECPv6.15.13//NONSGML v1.0//EN
CALSCALE:GREGORIAN
METHOD:PUBLISH
X-ORIGINAL-URL:https://jcddu.org/
X-WR-CALDESC:Events for বাংলাদেশ জাতীয়তাবাদী ছাত্রদল- ঢাকা বিশ্ববিদ্যালয়
REFRESH-INTERVAL;VALUE=DURATION:PT1H
X-Robots-Tag:noindex
X-PUBLISHED-TTL:PT1H
BEGIN:VTIMEZONE
TZID:Asia/Dhaka
BEGIN:STANDARD
TZOFFSETFROM:+0600
TZOFFSETTO:+0600
TZNAME:+06
DTSTART:20240101T000000
END:STANDARD
END:VTIMEZONE
BEGIN:VEVENT
DTSTART;VALUE=DATE:20250101
DTEND;VALUE=DATE:20250102
DTSTAMP:20260420T163154
CREATED:20250518T124244Z
LAST-MODIFIED:20250518T124244Z
UID:1892-1735689600-1735775999@jcddu.org
SUMMARY:শহীদ রাষ্ট্রপতি জিয়াউর রহমানের প্রতি গভীর শ্রদ্ধা নিবেদনে ছাত্রদলের ৪৬তম প্রতিষ্ঠাবার্ষিকী
DESCRIPTION:শিক্ষা\, ঐক্য ও প্রগতির পতাকাবাহী সংগঠন বাংলাদেশ জাতীয়তাবাদী ছাত্রদলের ৪৬তম প্রতিষ্ঠাবার্ষিকী উপলক্ষে বাংলাদেশ জাতীয়তাবাদী ছাত্রদল\, ঢাকা বিশ্ববিদ্যালয় শহীদ রাষ্ট্রপতি জিয়াউর রহমান বীর উত্তমের প্রতি শ্রদ্ধা নিবেদন করে। এ উপলক্ষে শেরেবাংলা নগরে অবস্থিত জিয়া উদ্যানে তার মাজারে পুষ্পস্তবক অর্পণ\, ফাতিহা পাঠ এবং মোনাজাতের আয়োজন করা হয়। এতে ঢাকা বিশ্ববিদ্যালয় ছাত্রদলের নেতাকর্মীরা অংশগ্রহণ করেন।\n০১ জানুয়ারি ২০২৫\, বুধবার
URL:https://jcddu.org/event/%e0%a6%b6%e0%a6%b9%e0%a7%80%e0%a6%a6-%e0%a6%b0%e0%a6%be%e0%a6%b7%e0%a7%8d%e0%a6%9f%e0%a7%8d%e0%a6%b0%e0%a6%aa%e0%a6%a4%e0%a6%bf-%e0%a6%9c%e0%a6%bf%e0%a6%af%e0%a6%bc%e0%a6%be%e0%a6%89%e0%a6%b0/
LOCATION:রাষ্ট্রপতি জিয়াউর রহমান বীর উত্তম এর মাজার\, রাষ্ট্রপতি জিয়াউর রহমান বীর উত্তম এর মাজারে\, Dhaka\, 1000\, Bangladesh
CATEGORIES:শহীদ রাষ্ট্রপতি জিয়াউর রহমানের প্রতি গভীর শ্রদ্ধা নিবেদনে
ATTACH;FMTTYPE=image/jpeg:https://jcddu.org/wp-content/uploads/2025/05/476838253_122157254096328697_5786450131607519830_n.jpg
END:VEVENT
END:VCALENDAR