BEGIN:VCALENDAR
VERSION:2.0
PRODID:-//বাংলাদেশ জাতীয়তাবাদী ছাত্রদল- ঢাকা বিশ্ববিদ্যালয় - ECPv6.15.13//NONSGML v1.0//EN
CALSCALE:GREGORIAN
METHOD:PUBLISH
X-WR-CALNAME:বাংলাদেশ জাতীয়তাবাদী ছাত্রদল- ঢাকা বিশ্ববিদ্যালয়
X-ORIGINAL-URL:https://jcddu.org/
X-WR-CALDESC:Events for বাংলাদেশ জাতীয়তাবাদী ছাত্রদল- ঢাকা বিশ্ববিদ্যালয়
REFRESH-INTERVAL;VALUE=DURATION:PT1H
X-Robots-Tag:noindex
X-PUBLISHED-TTL:PT1H
BEGIN:VTIMEZONE
TZID:Asia/Dhaka
BEGIN:STANDARD
TZOFFSETFROM:+0600
TZOFFSETTO:+0600
TZNAME:+06
DTSTART:20240101T000000
END:STANDARD
END:VTIMEZONE
BEGIN:VEVENT
DTSTART;VALUE=DATE:20250226
DTEND;VALUE=DATE:20250227
DTSTAMP:20260419T210755
CREATED:20250515T062952Z
LAST-MODIFIED:20250515T062952Z
UID:1670-1740528000-1740614399@jcddu.org
SUMMARY:রমজানে হল ক্যান্টিনে মান ও মূল্য নিশ্চিতকরণে উপাচার্যকে ছাত্রদলের স্মারকলিপি প্রদান
DESCRIPTION:পবিত্র মাহে রমজানে হলসমূহের ক্যান্টিনে খাবারের মান বৃদ্ধি এবং যথাযথ মূল্য নিশ্চিতে হলভিত্তিক প্রশাসনিক মনিটরিং সেল গঠন এবং প্রয়োজনানুসারে ভর্তুকি বৃদ্ধির জন্য আবেদন করে আজ ঢাকা বিশ্ববিদ্যালয়ের মাননীয় উপাচার্য অধ্যাপক ডঃ নিয়াজ আহমেদ খানের কাছে গত ২৬ ফেব্রুয়ারি\, ২০২৫ ইং রোজ বুধবার দুপুর ১:০০টায় একটি স্মারকলিপি প্রদান করেছেন বাংলাদেশ জাতীয়তাবাদী ছাত্রদল\, ঢাকা বিশ্ববিদ্যালয়ের নেতৃবৃন্দ।\n\n\nউপাচার্য মহোদয়ের সাথে সাক্ষাৎকালে উপস্থিত ছিলেন বাংলাদেশ জাতীয়তাবাদী ছাত্রদল\, ঢাকা বিশ্ববিদ্যালয়ের সভাপতি গণেশ চন্দ্র রায় সাহস\, সিনিয়র সহ-সভাপতি মোঃ মাসুম বিল্লাহ\, সাধারণ সম্পাদক নাহিদুজ্জামান শিপন\, সিনিয়র যুগ্ম-সাধারণ সম্পাদক মোঃ নাসির উদ্দিন শাওন\, যুগ্ম-সাধারণ সম্পাদক মোঃ শামিম আকতার শুভ এবং সাংগঠনিক সম্পাদক মোঃ নূর আলম ভূঁইয়া ইমন।\n\n\nএসময় নেতৃবৃন্দ উপাচার্য মহোদয়ের কাছে দাবি দুইটি তুলে ধরলে তিনি সেগুলোর বাস্তবায়ন\, বিশেষত মনিটরিং সেল গঠনের ব্যাপারে বিশ্ববিদ্যালয় প্রশাসন সর্বোচ্চ আন্তরিকতার সাথে কাজ করবে বলে আশ্বাস প্রদান করেন।
URL:https://jcddu.org/event/%e0%a6%b0%e0%a6%ae%e0%a6%9c%e0%a6%be%e0%a6%a8%e0%a7%87-%e0%a6%b9%e0%a6%b2-%e0%a6%95%e0%a7%8d%e0%a6%af%e0%a6%be%e0%a6%a8%e0%a7%8d%e0%a6%9f%e0%a6%bf%e0%a6%a8%e0%a7%87-%e0%a6%ae%e0%a6%be%e0%a6%a8/
LOCATION:রেজিস্ট্রার দপ্তর\, ঢাকা বিশ্ববিদ্যালয়\, রেজিস্ট্রার দপ্তর\, ঢাকা বিশ্ববিদ্যালয়\, Dhaka\, 1000\, Bangladesh
CATEGORIES:হল ক্যান্টিনে মান ও মূল্য নিশ্চিতকরণে
ATTACH;FMTTYPE=image/jpeg:https://jcddu.org/wp-content/uploads/2025/05/481660315_122159495684328697_531189559136057232_n.jpg
END:VEVENT
END:VCALENDAR