BEGIN:VCALENDAR
VERSION:2.0
PRODID:-//বাংলাদেশ জাতীয়তাবাদী ছাত্রদল- ঢাকা বিশ্ববিদ্যালয় - ECPv6.15.13//NONSGML v1.0//EN
CALSCALE:GREGORIAN
METHOD:PUBLISH
X-WR-CALNAME:বাংলাদেশ জাতীয়তাবাদী ছাত্রদল- ঢাকা বিশ্ববিদ্যালয়
X-ORIGINAL-URL:https://jcddu.org/
X-WR-CALDESC:Events for বাংলাদেশ জাতীয়তাবাদী ছাত্রদল- ঢাকা বিশ্ববিদ্যালয়
REFRESH-INTERVAL;VALUE=DURATION:PT1H
X-Robots-Tag:noindex
X-PUBLISHED-TTL:PT1H
BEGIN:VTIMEZONE
TZID:Asia/Dhaka
BEGIN:STANDARD
TZOFFSETFROM:+0600
TZOFFSETTO:+0600
TZNAME:+06
DTSTART:20230101T000000
END:STANDARD
END:VTIMEZONE
BEGIN:VEVENT
DTSTART;TZID=Asia/Dhaka:20241210T080000
DTEND;TZID=Asia/Dhaka:20241210T170000
DTSTAMP:20260420T215554
CREATED:20250523T065718Z
LAST-MODIFIED:20250523T065718Z
UID:2126-1733817600-1733850000@jcddu.org
SUMMARY:মানবাধিকার দিবসে মুক্ত আলোচনা – ১০ ডিসেম্বর ২০২৪
DESCRIPTION:গতকাল ১০ ডিসেম্বর ২০২৪\, আন্তর্জাতিক মানবাধিকার দিবস উপলক্ষে বাংলাদেশ জাতীয়তাবাদী ছাত্রদল\, ঢাকা বিশ্ববিদ্যালয় মানবাধিকার সেলের উদ্যোগে ❝ভবিষ্যত বাংলাদেশের মানবাধিকার ভাবনা ও ছাত্রসমাজের ভূমিকা❞ শীর্ষক মুক্ত আলোচনা অনুষ্ঠান ঢাকা বিশ্ববিদ্যালয়ের কলাভবন সংলগ্ন ঐতিহাসিক বটতলায় অনুষ্ঠিত হয়।
URL:https://jcddu.org/event/%e0%a6%ae%e0%a6%be%e0%a6%a8%e0%a6%ac%e0%a6%be%e0%a6%a7%e0%a6%bf%e0%a6%95%e0%a6%be%e0%a6%b0-%e0%a6%a6%e0%a6%bf%e0%a6%ac%e0%a6%b8%e0%a7%87-%e0%a6%ae%e0%a7%81%e0%a6%95%e0%a7%8d%e0%a6%a4-%e0%a6%86/
LOCATION:ঢাকা বিশ্ববিদ্যালয়\, ঢাকা বিশবিদযালয়\, Dhaka\, 1000\, Bangladesh
CATEGORIES:মানবাধিকার দিবসে মুক্ত আলোচনা – ১০ ডিসেম্বর ২০২৪
ATTACH;FMTTYPE=image/jpeg:https://jcddu.org/wp-content/uploads/2025/05/477566691_122157126740328697_4151641859696760778_n.jpg
END:VEVENT
BEGIN:VEVENT
DTSTART;VALUE=DATE:20241210
DTEND;VALUE=DATE:20241211
DTSTAMP:20260420T215554
CREATED:20250523T070105Z
LAST-MODIFIED:20250523T070105Z
UID:2136-1733788800-1733875199@jcddu.org
SUMMARY:বটতলায় মানবাধিকার চেতনায় ছাত্রদল – ১০ ডিসেম্বর ২০২৪
DESCRIPTION:গত ১০ ডিসেম্বর ২০২৪\, আন্তর্জাতিক মানবাধিকার দিবস উপলক্ষে বাংলাদেশ জাতীয়তাবাদী ছাত্রদল\, ঢাকা বিশ্ববিদ্যালয়ের মানবাধিকার সেলের উদ্যোগে ❝ভবিষ্যত বাংলাদেশের মানবাধিকার ভাবনা ও ছাত্রসমাজের ভূমিকা❞ শীর্ষক মুক্ত আলোচনা অনুষ্ঠান ঢাকা বিশ্ববিদ্যালয়ের কলাভবন সংলগ্ন ঐতিহাসিক স্মৃতিবিজড়িত বটতলায় অনুষ্ঠিত হয়েছে।অনুষ্ঠানে বিশেষভাবে স্মরণ করা হয় বিএনপি ও এর অঙ্গ সংগঠনের সেই সকল নেতা-কর্মীদের\, যারা ফ্যাসিস্ট রক্তপিপাসু হাসিনা সরকারের শাসনামলে জীবন উৎসর্গ করেছেন। তাঁদের আত্মত্যাগ ও গণতান্ত্রিক অধিকার প্রতিষ্ঠার আন্দোলন ইতিহাসের পাতায় চিরস্মরণীয় হয়ে থাকবে।মানবাধিকার দিবসের এই বিশেষ আয়োজনে ফ্যাসিস্ট সরকারের সময়ে মানবাধিকার লঙ্ঘন\, গুম\, হত্যা ও নিপীড়নের বিভিন্ন দিক তুলে ধরা হয়।এই অনুষ্ঠান শিক্ষার্থীদের মধ্যে মানবাধিকার রক্ষায় সচেতনতা তৈরি এবং ভবিষ্যতের বাংলাদেশে মানবাধিকার নিশ্চিত করতে ছাত্রসমাজকে অনুপ্রাণিত ও দিকনির্দেশনা প্রদান করবে।
URL:https://jcddu.org/event/%e0%a6%ac%e0%a6%9f%e0%a6%a4%e0%a6%b2%e0%a6%be%e0%a6%af%e0%a6%bc-%e0%a6%ae%e0%a6%be%e0%a6%a8%e0%a6%ac%e0%a6%be%e0%a6%a7%e0%a6%bf%e0%a6%95%e0%a6%be%e0%a6%b0-%e0%a6%9a%e0%a7%87%e0%a6%a4%e0%a6%a8%e0%a6%be/
LOCATION:ঢাকা বিশ্ববিদ্যালয়\, ঢাকা বিশবিদযালয়\, Dhaka\, 1000\, Bangladesh
CATEGORIES:বটতলায় মানবাধিকার চেতনায় ছাত্রদল – ১০ ডিসেম্বর ২০২৪
ATTACH;FMTTYPE=image/jpeg:https://jcddu.org/wp-content/uploads/2025/05/476638439_122157126284328697_1850672559112027196_n.jpg
END:VEVENT
BEGIN:VEVENT
DTSTART;VALUE=DATE:20241210
DTEND;VALUE=DATE:20241211
DTSTAMP:20260420T215554
CREATED:20250523T064833Z
LAST-MODIFIED:20250523T064833Z
UID:2113-1733788800-1733875199@jcddu.org
SUMMARY:মানবাধিকার দিবসে শহীদ পরিবারকে ছাত্রদলের শ্রদ্ধা – ১০ ডিসেম্বর ২০২৪
DESCRIPTION:গতকাল ১০ ডিসেম্বর ২০২৪\, আন্তর্জাতিক মানবাধিকার দিবস উপলক্ষে বাংলাদেশ জাতীয়তাবাদী ছাত্রদল\, ঢাকা বিশ্ববিদ্যালয় মানবাধিকার সেলের উদ্যোগে ❝ভবিষ্যত বাংলাদেশের মানবাধিকার ভাবনা ও ছাত্রসমাজের ভূমিকা❞ শীর্ষক মুক্ত আলোচনা অনুষ্ঠানে জুলাই অভ্যুত্থানে শহীদ হওয়া ছাত্রদলের দুই বীর পারভেজের মা ও বাবা\, এবং শহীদ রাব্বির বাবা তাদের বিয়োগান্ত হৃদয়ের ব্যথাতুর বক্তব্য রাখেন।তাঁদের বক্তব্যে উঠে আসে—একমাত্র ছেলে কিংবা ভাইকে হারিয়ে শহীদ পরিবারগুলো যে অপূরণীয় শূন্যতা ও অবর্ণনীয় শোকের মধ্য দিয়ে সময় পার করছেন\, তা ভাষায় প্রকাশযোগ্য নয়।হয়তো ছাত্রদলের শহীদদের রক্ত ও তাঁদের পিতা-মাতার অশ্রু সবার কাছে সমান মর্যাদায় আলোচনা\, স্লোগান কিংবা কবিতায় স্থান পাবে না\, কিন্তু স্বৈরাচার ও আধিপত্যবাদী শক্তিমুক্ত বাংলাদেশের উড়ন্ত পতাকা তাদের রক্ত ও অশ্রুর চিরসাক্ষী হয়ে বাংলার আকাশে উড়বেই।বাংলাদেশ জাতীয়তাবাদী ছাত্রদল পরিবার এই অভ্যুত্থানে প্রতিটি শহীদ পরিবারের সংকটে\, বিরহে\, উৎসবে সন্তান কিংবা ভাই হয়ে পাশে থাকার দৃঢ় শপথে বলীয়ান।
URL:https://jcddu.org/event/%e0%a6%ae%e0%a6%be%e0%a6%a8%e0%a6%ac%e0%a6%be%e0%a6%a7%e0%a6%bf%e0%a6%95%e0%a6%be%e0%a6%b0-%e0%a6%a6%e0%a6%bf%e0%a6%ac%e0%a6%b8%e0%a7%87-%e0%a6%b6%e0%a6%b9%e0%a7%80%e0%a6%a6-%e0%a6%aa%e0%a6%b0/
LOCATION:ঢাকা বিশ্ববিদ্যালয়\, ঢাকা বিশবিদযালয়\, Dhaka\, 1000\, Bangladesh
CATEGORIES:মানবাধিকার দিবসে শহীদ পরিবারকে ছাত্রদলের শ্রদ্ধা – ১০ ডিসেম্বর ২০২৪
ATTACH;FMTTYPE=image/jpeg:https://jcddu.org/wp-content/uploads/2025/05/476634334_122157128792328697_7414093802419328364_n.jpg
END:VEVENT
BEGIN:VEVENT
DTSTART;VALUE=DATE:20241208
DTEND;VALUE=DATE:20241209
DTSTAMP:20260420T215554
CREATED:20250523T091513Z
LAST-MODIFIED:20250523T091513Z
UID:2167-1733616000-1733702399@jcddu.org
SUMMARY:জাতীয় পতাকা অবমাননার প্রতিবাদে ছাত্রদলের পদযাত্রা – ৮ ডিসেম্বর ২০২৪
DESCRIPTION:আগরতলায় বাংলাদেশের সহকারী হাইকমিশনে হামলা\, জাতীয় পতাকা অবমাননা ও সাম্প্রদায়িক দাঙ্গা উসকে দেওয়ার ষড়যন্ত্রের প্রতিবাদে ৮ ডিসেম্বর ২০২৪\, বাংলাদেশ জাতীয়তাবাদী যুবদল\, স্বেচ্ছাসেবক দল ও ছাত্রদলের যৌথ উদ্যোগে ভারতীয় দূতাবাস অভিমুখে প্রতিবাদী পদযাত্রা ও স্মারকলিপি প্রদান কর্মসূচি অনুষ্ঠিত হয়।এই কর্মসূচিতে বাংলাদেশ জাতীয়তাবাদী ছাত্রদল\, ঢাকা বিশ্ববিদ্যালয়ের সর্বস্তরের নেতাকর্মীরা সক্রিয়ভাবে অংশগ্রহণ করেন।
URL:https://jcddu.org/event/%e0%a6%9c%e0%a6%be%e0%a6%a4%e0%a7%80%e0%a6%af%e0%a6%bc-%e0%a6%aa%e0%a6%a4%e0%a6%be%e0%a6%95%e0%a6%be-%e0%a6%85%e0%a6%ac%e0%a6%ae%e0%a6%be%e0%a6%a8%e0%a6%a8%e0%a6%be%e0%a6%b0-%e0%a6%aa%e0%a7%8d/
LOCATION:ভারতীয় দূতাবাস\, ভারতীয় দূতাবাস\, Dhaka\, 1000\, Bangladesh
CATEGORIES:ভারতীয় দূতাবাস অভিমুখে প্রতিবাদী পদযাত্রা
ATTACH;FMTTYPE=image/jpeg:https://jcddu.org/wp-content/uploads/2025/05/476641251_122157121040328697_6042271511461150300_n.jpg
END:VEVENT
BEGIN:VEVENT
DTSTART;VALUE=DATE:20241201
DTEND;VALUE=DATE:20241202
DTSTAMP:20260420T215554
CREATED:20250523T092622Z
LAST-MODIFIED:20250523T092622Z
UID:2194-1733011200-1733097599@jcddu.org
SUMMARY:তারেক রহমানের খালাসে নয়াপল্টনে ছাত্রদলের আনন্দ মিছিল
DESCRIPTION:ফ্যাসিস্ট আওয়ামী লীগ কর্তৃক দায়েরকৃত ২১ আগস্ট গ্রেনেড হামলার মিথ্যা মামলা থেকে বিএনপির ভারপ্রাপ্ত চেয়ারম্যান জনাব তারেক রহমানসহ সকল আসামি খালাস পাওয়ায় ঢাকার নয়াপল্টনে বিএনপি ও অঙ্গ এবং সহযোগি সংগঠনের আনন্দ মিছিলে অংশ নেন বাংলাদেশ জাতীয়তাবাদী ছাত্রদল\, ঢাকা বিশ্ববিদ্যালয়ের নেতাকর্মীরা।\n১ ডিসেম্বর ২০২৪\, রবিবার
URL:https://jcddu.org/event/%e0%a6%a4%e0%a6%be%e0%a6%b0%e0%a7%87%e0%a6%95-%e0%a6%b0%e0%a6%b9%e0%a6%ae%e0%a6%be%e0%a6%a8%e0%a7%87%e0%a6%b0-%e0%a6%96%e0%a6%be%e0%a6%b2%e0%a6%be%e0%a6%b8%e0%a7%87-%e0%a6%a8%e0%a6%af%e0%a6%bc/
LOCATION:নয়াপল্টন\, নয়াপল্টনে\, Dhaka\, 1000\, Bangladesh
CATEGORIES:তারেক রহমানের খালাসে নয়াপল্টনে ছাত্রদলের আনন্দ মিছিল
ATTACH;FMTTYPE=image/jpeg:https://jcddu.org/wp-content/uploads/2025/05/477640245_122157108500328697_8426283437125557607_n.jpg
END:VEVENT
BEGIN:VEVENT
DTSTART;VALUE=DATE:20241127
DTEND;VALUE=DATE:20241128
DTSTAMP:20260420T215554
CREATED:20250523T093925Z
LAST-MODIFIED:20250523T093925Z
UID:2207-1732665600-1732751999@jcddu.org
SUMMARY:শহীদ ডা. মিলনের ৩৪তম শাহাদাত বার্ষিকীতে ছাত্রদলের শ্রদ্ধা – ২৭ নভেম্বর ২০২৪
DESCRIPTION:১৯৯০ সালের ২৭ নভেম্বর ঢাকা বিশ্ববিদ্যালয়ের টিএসসি সংলগ্ন এলাকায় তৎকালীন স্বৈরশাসক এরশাদের গুপ্তবাহিনীর গুলিতে নির্মমভাবে নিহত হওয়া শহীদ ডা. শামসুল আলম খান মিলনের ৩৪তম শাহাদাত বার্ষিকী উপলক্ষে আজ ২৭ নভেম্বর\, ২০২৪ ইং সকাল ৭:৩০ মিনিটে বাংলাদেশ জাতীয়তাবাদী ছাত্রদল কেন্দ্রীয় সংসদ ও ঢাকা বিশ্ববিদ্যালয় ছাত্রদলের পক্ষ থেকে ঢাকা মেডিকেলের বহির্বিভাগের পাশে অবস্থিত শহীদ ডা. মিলনের সমাধিতে পুষ্পস্তবক অর্পন ও ফাতিহা পাঠের পর টিএসসি সংলগ্ন ডা. শহীদ মিলন স্মৃতিস্তম্ভে পুষ্পস্তবক অর্পন করা হয়েছে।\n\n\nকর্মসূচিটিতে বাংলাদেশ জাতীয়তাবাদী ছাত্রদল কেন্দ্রীয় সংসদের সাধারণ সম্পাদক নাছির উদ্দীন নাছির ও কেন্দ্রীয় নেতৃবৃন্দের পাশাপাশি উপস্থিত ছিলেন ঢাকা বিশ্ববিদ্যালয় ছাত্রদলের সভাপতি গণেশ চন্দ্র রায় সাহস\, সাধারণ সম্পাদক নাহিদুজ্জামান শিপন\, সিনিয়র যুগ্ম-সাধারণ সম্পাদক নাছির উদ্দিন শাওন ও সাংগঠনিক সম্পাদক মোঃ নূরে আলম ভূঁইয়া ইমন সহ বিশ্ববিদ্যালয় ও হল পর্যায়ের শতাধিক নেতাকর্মী।
URL:https://jcddu.org/event/%e0%a6%b6%e0%a6%b9%e0%a7%80%e0%a6%a6-%e0%a6%a1%e0%a6%be-%e0%a6%ae%e0%a6%bf%e0%a6%b2%e0%a6%a8%e0%a7%87%e0%a6%b0-%e0%a7%a9%e0%a7%aa%e0%a6%a4%e0%a6%ae-%e0%a6%b6%e0%a6%be%e0%a6%b9%e0%a6%be%e0%a6%a6/
LOCATION:ছাত্র-শিক্ষক কেন্দ্র\, ঢাকা বিশ্ববিদ্যালয়\, TSC\, Dhaka University\, Dhaka\, Dhaka\, 1000\, Bangladesh
CATEGORIES:শহীদ ডা. মিলনের ৩৪তম শাহাদাত বার্ষিকীতে ছাত্রদলের শ্রদ্ধা – ২৭ নভেম্বর ২০২৪
ATTACH;FMTTYPE=image/jpeg:https://jcddu.org/wp-content/uploads/2025/05/476831504_122156989286328697_470811576299751117_n.jpg
END:VEVENT
BEGIN:VEVENT
DTSTART;VALUE=DATE:20241121
DTEND;VALUE=DATE:20241122
DTSTAMP:20260420T215554
CREATED:20250523T094332Z
LAST-MODIFIED:20250523T094332Z
UID:2222-1732147200-1732233599@jcddu.org
SUMMARY:সশ্রদ্ধ প্রত্যাবর্তন: এক যুগ পর সেনাকুঞ্জে বিএনপি চেয়ারপারসন বেগম খালেদা জিয়া
DESCRIPTION:দীর্ঘ এক যুগ পর সশস্ত্র বাহিনী দিবসের অনুষ্ঠানে সেনাকুঞ্জে অতিথি হিসেবে ছিলেন বীর মুক্তিযোদ্ধা শহীদ রাষ্ট্রপতি জিয়াউর রহমান (বীর উত্তম)-এর সহধর্মিণী\, তিনবারের নির্বাচিত প্রধানমন্ত্রী\, বাংলাদেশ জাতীয়তাবাদী দল-বিএনপি’র চেয়ারপারসন বেগম খালেদা জিয়া।\n– ২১ নভেম্বর\, ২০২৪ ইং।
URL:https://jcddu.org/event/%e0%a6%b8%e0%a6%b6%e0%a7%8d%e0%a6%b0%e0%a6%a6%e0%a7%8d%e0%a6%a7-%e0%a6%aa%e0%a7%8d%e0%a6%b0%e0%a6%a4%e0%a7%8d%e0%a6%af%e0%a6%be%e0%a6%ac%e0%a6%b0%e0%a7%8d%e0%a6%a4%e0%a6%a8-%e0%a6%8f%e0%a6%95/
LOCATION:সেনাকুঞ্জ\, সেনাকুঞ্জে\, Dhaka\, 1000\, Bangladesh
CATEGORIES:সশ্রদ্ধ প্রত্যাবর্তন: এক যুগ পর সেনাকুঞ্জে বিএনপি চেয়ারপারসন বেগম খালেদা জিয়া
ATTACH;FMTTYPE=image/jpeg:https://jcddu.org/wp-content/uploads/2025/05/477732298_122156980568328697_5662455889450067830_n.jpg
END:VEVENT
BEGIN:VEVENT
DTSTART;VALUE=DATE:20240503
DTEND;VALUE=DATE:20240504
DTSTAMP:20260420T215554
CREATED:20250523T092224Z
LAST-MODIFIED:20250523T092248Z
UID:2183-1714694400-1714780799@jcddu.org
SUMMARY:আগরতলা হাইকমিশনে হামলার প্রতিবাদে নয়াপল্টনে ছাত্রদলের অংশগ্রহণ
DESCRIPTION:ভারতের আগরতলায় অবস্থিত বাংলাদেশের সহকারি হাইকমিশনে হামলার প্রতিবাদে ঢাকার নয়াপল্টনে বাংলাদেশ জাতীয়তাবাদী দল-বিএনপি ও অঙ্গ এবং সহযোগি সংগঠনের বিক্ষোভ মিছিলে অংশ নেন বাংলাদেশ জাতীয়তাবাদী ছাত্রদল\, ঢাকা বিশ্ববিদ্যালয়ের নেতাকর্মীরা।\n৩ ডিসেম্বর ২০২৪ ইং।
URL:https://jcddu.org/event/%e0%a6%86%e0%a6%97%e0%a6%b0%e0%a6%a4%e0%a6%b2%e0%a6%be-%e0%a6%b9%e0%a6%be%e0%a6%87%e0%a6%95%e0%a6%ae%e0%a6%bf%e0%a6%b6%e0%a6%a8%e0%a7%87-%e0%a6%b9%e0%a6%be%e0%a6%ae%e0%a6%b2%e0%a6%be%e0%a6%b0/
LOCATION:নয়াপল্টন\, নয়াপল্টনে\, Dhaka\, 1000\, Bangladesh
CATEGORIES:আগরতলা হাইকমিশনে হামলার প্রতিবাদে নয়াপল্টনে ছাত্রদলের অংশগ্রহণ
ATTACH;FMTTYPE=image/jpeg:https://jcddu.org/wp-content/uploads/2025/05/477715947_122157111674328697_4396155955268528352_n-1.jpg
END:VEVENT
END:VCALENDAR